BEGIN:VCALENDAR
VERSION:2.0
PRODID:-//Sankt-Jakobus-Schützenbruderschaft - ECPv6.15.20//NONSGML v1.0//EN
CALSCALE:GREGORIAN
METHOD:PUBLISH
X-WR-CALNAME:Sankt-Jakobus-Schützenbruderschaft
X-ORIGINAL-URL:https://sankt-jakobus-schuetzenbruderschaft-ehringhausen.de
X-WR-CALDESC:Veranstaltungen für Sankt-Jakobus-Schützenbruderschaft
REFRESH-INTERVAL;VALUE=DURATION:PT1H
X-Robots-Tag:noindex
X-PUBLISHED-TTL:PT1H
BEGIN:VTIMEZONE
TZID:UTC
BEGIN:STANDARD
TZOFFSETFROM:+0000
TZOFFSETTO:+0000
TZNAME:UTC
DTSTART:20250101T000000
END:STANDARD
END:VTIMEZONE
BEGIN:VEVENT
DTSTART;VALUE=DATE:20261003
DTEND;VALUE=DATE:20261004
DTSTAMP:20260424T124041
CREATED:20251208T121937Z
LAST-MODIFIED:20251208T121937Z
UID:7408-1790985600-1791071999@sankt-jakobus-schuetzenbruderschaft-ehringhausen.de
SUMMARY:Jahresabschlussmesse KSB LP
DESCRIPTION:
URL:https://sankt-jakobus-schuetzenbruderschaft-ehringhausen.de/event/jahresabschlussmesse-ksb-lp/
LOCATION:St. Nicolai Kirche Lippstadt
END:VEVENT
BEGIN:VEVENT
DTSTART;VALUE=DATE:20261010
DTEND;VALUE=DATE:20261011
DTSTAMP:20260424T124041
CREATED:20251208T122009Z
LAST-MODIFIED:20251208T122009Z
UID:7411-1791590400-1791676799@sankt-jakobus-schuetzenbruderschaft-ehringhausen.de
SUMMARY:Bundesjungschützentag SSB
DESCRIPTION:
URL:https://sankt-jakobus-schuetzenbruderschaft-ehringhausen.de/event/bundesjungschuetzentag-ssb/
LOCATION:Rüthen
END:VEVENT
BEGIN:VEVENT
DTSTART;VALUE=DATE:20261011
DTEND;VALUE=DATE:20261012
DTSTAMP:20260424T124041
CREATED:20251208T122039Z
LAST-MODIFIED:20251208T122039Z
UID:7414-1791676800-1791763199@sankt-jakobus-schuetzenbruderschaft-ehringhausen.de
SUMMARY:Kreispokalschiessen KSB LP
DESCRIPTION:
URL:https://sankt-jakobus-schuetzenbruderschaft-ehringhausen.de/event/kreispokalschiessen-ksb-lp/
LOCATION:Schießstand Öchtringhausen
END:VEVENT
END:VCALENDAR