BEGIN:VCALENDAR
VERSION:2.0
PRODID:-//Sankt-Jakobus-Schützenbruderschaft - ECPv6.15.20//NONSGML v1.0//EN
CALSCALE:GREGORIAN
METHOD:PUBLISH
X-ORIGINAL-URL:https://sankt-jakobus-schuetzenbruderschaft-ehringhausen.de
X-WR-CALDESC:Veranstaltungen für Sankt-Jakobus-Schützenbruderschaft
REFRESH-INTERVAL;VALUE=DURATION:PT1H
X-Robots-Tag:noindex
X-PUBLISHED-TTL:PT1H
BEGIN:VTIMEZONE
TZID:UTC
BEGIN:STANDARD
TZOFFSETFROM:+0000
TZOFFSETTO:+0000
TZNAME:UTC
DTSTART:20250101T000000
END:STANDARD
END:VTIMEZONE
BEGIN:VEVENT
DTSTART;VALUE=DATE:20260530
DTEND;VALUE=DATE:20260602
DTSTAMP:20260424T061814
CREATED:20251208T121304Z
LAST-MODIFIED:20251208T121304Z
UID:7372-1780099200-1780358399@sankt-jakobus-schuetzenbruderschaft-ehringhausen.de
SUMMARY:Schützenfest Mönninghausen-Bönninghausen
DESCRIPTION:
URL:https://sankt-jakobus-schuetzenbruderschaft-ehringhausen.de/event/schuetzenfest-moenninghausen-boenninghausen-2/
END:VEVENT
BEGIN:VEVENT
DTSTART;VALUE=DATE:20260603
DTEND;VALUE=DATE:20260604
DTSTAMP:20260424T061814
CREATED:20251208T121331Z
LAST-MODIFIED:20251208T121331Z
UID:7375-1780444800-1780531199@sankt-jakobus-schuetzenbruderschaft-ehringhausen.de
SUMMARY:Vogel wegbringen
DESCRIPTION:
URL:https://sankt-jakobus-schuetzenbruderschaft-ehringhausen.de/event/vogel-wegbringen-7/
END:VEVENT
BEGIN:VEVENT
DTSTART;VALUE=DATE:20260604
DTEND;VALUE=DATE:20260605
DTSTAMP:20260424T061814
CREATED:20251208T121410Z
LAST-MODIFIED:20251208T121410Z
UID:7378-1780531200-1780617599@sankt-jakobus-schuetzenbruderschaft-ehringhausen.de
SUMMARY:Fronleichnamsprozession
DESCRIPTION:
URL:https://sankt-jakobus-schuetzenbruderschaft-ehringhausen.de/event/fronleichnamsprozession-5/
LOCATION:Langeneicke
END:VEVENT
BEGIN:VEVENT
DTSTART;VALUE=DATE:20260606
DTEND;VALUE=DATE:20260609
DTSTAMP:20260424T061814
CREATED:20251208T121450Z
LAST-MODIFIED:20251208T121450Z
UID:7381-1780704000-1780963199@sankt-jakobus-schuetzenbruderschaft-ehringhausen.de
SUMMARY:Schützenfest Ehringhausen
DESCRIPTION:
URL:https://sankt-jakobus-schuetzenbruderschaft-ehringhausen.de/event/schuetzenfest-ehringhausen-6/
LOCATION:Schützenplatz
END:VEVENT
BEGIN:VEVENT
DTSTART;VALUE=DATE:20260626
DTEND;VALUE=DATE:20260627
DTSTAMP:20260424T061814
CREATED:20251208T121546Z
LAST-MODIFIED:20251208T121546Z
UID:7384-1782432000-1782518399@sankt-jakobus-schuetzenbruderschaft-ehringhausen.de
SUMMARY:Festabrechnung
DESCRIPTION:
URL:https://sankt-jakobus-schuetzenbruderschaft-ehringhausen.de/event/festabrechnung-8/
LOCATION:Dorf-Z.I.E.G.E
END:VEVENT
BEGIN:VEVENT
DTSTART;VALUE=DATE:20260627
DTEND;VALUE=DATE:20260630
DTSTAMP:20260424T061814
CREATED:20251208T121612Z
LAST-MODIFIED:20251208T121612Z
UID:7387-1782518400-1782777599@sankt-jakobus-schuetzenbruderschaft-ehringhausen.de
SUMMARY:Schützenfest Langeneicke
DESCRIPTION:
URL:https://sankt-jakobus-schuetzenbruderschaft-ehringhausen.de/event/schuetzenfest-langeneicke-7/
END:VEVENT
END:VCALENDAR