BEGIN:VCALENDAR
VERSION:2.0
PRODID:-//Sankt-Jakobus-Schützenbruderschaft - ECPv6.15.20//NONSGML v1.0//EN
CALSCALE:GREGORIAN
METHOD:PUBLISH
X-ORIGINAL-URL:https://sankt-jakobus-schuetzenbruderschaft-ehringhausen.de
X-WR-CALDESC:Veranstaltungen für Sankt-Jakobus-Schützenbruderschaft
REFRESH-INTERVAL;VALUE=DURATION:PT1H
X-Robots-Tag:noindex
X-PUBLISHED-TTL:PT1H
BEGIN:VTIMEZONE
TZID:UTC
BEGIN:STANDARD
TZOFFSETFROM:+0000
TZOFFSETTO:+0000
TZNAME:UTC
DTSTART:20250101T000000
END:STANDARD
END:VTIMEZONE
BEGIN:VEVENT
DTSTART;VALUE=DATE:20260502
DTEND;VALUE=DATE:20260503
DTSTAMP:20260425T101618
CREATED:20251208T120954Z
LAST-MODIFIED:20251208T120954Z
UID:7360-1777680000-1777766399@sankt-jakobus-schuetzenbruderschaft-ehringhausen.de
SUMMARY:Kinderschützenfest und  Jungschützenkönigsschiessen
DESCRIPTION:
URL:https://sankt-jakobus-schuetzenbruderschaft-ehringhausen.de/event/kinderschuetzenfest-und-jungschuetzenkoenigsschiessen/
LOCATION:Schützenplatz
END:VEVENT
BEGIN:VEVENT
DTSTART;VALUE=DATE:20260508
DTEND;VALUE=DATE:20260509
DTSTAMP:20260425T101618
CREATED:20251208T121023Z
LAST-MODIFIED:20251208T121023Z
UID:7363-1778198400-1778284799@sankt-jakobus-schuetzenbruderschaft-ehringhausen.de
SUMMARY:Franz Strothe Pokalschiessen
DESCRIPTION:
URL:https://sankt-jakobus-schuetzenbruderschaft-ehringhausen.de/event/franz-strothe-pokalschiessen/
LOCATION:Schießstand Öchtringhausen
END:VEVENT
BEGIN:VEVENT
DTSTART;VALUE=DATE:20260522
DTEND;VALUE=DATE:20260525
DTSTAMP:20260425T101618
CREATED:20251208T121204Z
LAST-MODIFIED:20251208T121204Z
UID:7366-1779408000-1779667199@sankt-jakobus-schuetzenbruderschaft-ehringhausen.de
SUMMARY:Schützenfest Bürger Geseke
DESCRIPTION:
URL:https://sankt-jakobus-schuetzenbruderschaft-ehringhausen.de/event/schuetzenfest-buerger-geseke/
END:VEVENT
BEGIN:VEVENT
DTSTART;VALUE=DATE:20260529
DTEND;VALUE=DATE:20260530
DTSTAMP:20260425T101618
CREATED:20251208T121225Z
LAST-MODIFIED:20251208T121225Z
UID:7369-1780012800-1780099199@sankt-jakobus-schuetzenbruderschaft-ehringhausen.de
SUMMARY:Vorstandsständchen
DESCRIPTION:
URL:https://sankt-jakobus-schuetzenbruderschaft-ehringhausen.de/event/vorstandsstaendchen-6/
END:VEVENT
BEGIN:VEVENT
DTSTART;VALUE=DATE:20260530
DTEND;VALUE=DATE:20260602
DTSTAMP:20260425T101618
CREATED:20251208T121304Z
LAST-MODIFIED:20251208T121304Z
UID:7372-1780099200-1780358399@sankt-jakobus-schuetzenbruderschaft-ehringhausen.de
SUMMARY:Schützenfest Mönninghausen-Bönninghausen
DESCRIPTION:
URL:https://sankt-jakobus-schuetzenbruderschaft-ehringhausen.de/event/schuetzenfest-moenninghausen-boenninghausen-2/
END:VEVENT
END:VCALENDAR