BEGIN:VCALENDAR
VERSION:2.0
PRODID:-//Sankt-Jakobus-Schützenbruderschaft - ECPv6.15.20//NONSGML v1.0//EN
CALSCALE:GREGORIAN
METHOD:PUBLISH
X-WR-CALNAME:Sankt-Jakobus-Schützenbruderschaft
X-ORIGINAL-URL:https://sankt-jakobus-schuetzenbruderschaft-ehringhausen.de
X-WR-CALDESC:Veranstaltungen für Sankt-Jakobus-Schützenbruderschaft
REFRESH-INTERVAL;VALUE=DURATION:PT1H
X-Robots-Tag:noindex
X-PUBLISHED-TTL:PT1H
BEGIN:VTIMEZONE
TZID:UTC
BEGIN:STANDARD
TZOFFSETFROM:+0000
TZOFFSETTO:+0000
TZNAME:UTC
DTSTART:20250101T000000
END:STANDARD
END:VTIMEZONE
BEGIN:VEVENT
DTSTART;VALUE=DATE:20260306
DTEND;VALUE=DATE:20260307
DTSTAMP:20260423T103431
CREATED:20251208T120448Z
LAST-MODIFIED:20251208T120448Z
UID:7342-1772755200-1772841599@sankt-jakobus-schuetzenbruderschaft-ehringhausen.de
SUMMARY:Klönabend
DESCRIPTION:
URL:https://sankt-jakobus-schuetzenbruderschaft-ehringhausen.de/event/kloenabend-3/
LOCATION:Mönninghausen
END:VEVENT
BEGIN:VEVENT
DTSTART;VALUE=DATE:20260313
DTEND;VALUE=DATE:20260314
DTSTAMP:20260423T103431
CREATED:20251208T120528Z
LAST-MODIFIED:20251208T120528Z
UID:7345-1773360000-1773446399@sankt-jakobus-schuetzenbruderschaft-ehringhausen.de
SUMMARY:Kreisdelegiertentagung KSB LP
DESCRIPTION:
URL:https://sankt-jakobus-schuetzenbruderschaft-ehringhausen.de/event/kreisdelegiertentagung-ksb-lp/
END:VEVENT
BEGIN:VEVENT
DTSTART;VALUE=DATE:20260314
DTEND;VALUE=DATE:20260315
DTSTAMP:20260423T103431
CREATED:20251208T120639Z
LAST-MODIFIED:20251208T120639Z
UID:7348-1773446400-1773532799@sankt-jakobus-schuetzenbruderschaft-ehringhausen.de
SUMMARY:Offiziersball
DESCRIPTION:
URL:https://sankt-jakobus-schuetzenbruderschaft-ehringhausen.de/event/offiziersball-2/
END:VEVENT
BEGIN:VEVENT
DTSTART;VALUE=DATE:20260328
DTEND;VALUE=DATE:20260329
DTSTAMP:20260423T103431
CREATED:20251208T120753Z
LAST-MODIFIED:20251208T120753Z
UID:7351-1774656000-1774742399@sankt-jakobus-schuetzenbruderschaft-ehringhausen.de
SUMMARY:Frühjahrskonzert Musikzug Störmede
DESCRIPTION:
URL:https://sankt-jakobus-schuetzenbruderschaft-ehringhausen.de/event/fruehjahrskonzert-musikzug-stoermede-2/
LOCATION:Störmede
END:VEVENT
END:VCALENDAR