BEGIN:VCALENDAR
VERSION:2.0
PRODID:-//Sankt-Jakobus-Schützenbruderschaft - ECPv6.15.20//NONSGML v1.0//EN
CALSCALE:GREGORIAN
METHOD:PUBLISH
X-WR-CALNAME:Sankt-Jakobus-Schützenbruderschaft
X-ORIGINAL-URL:https://sankt-jakobus-schuetzenbruderschaft-ehringhausen.de
X-WR-CALDESC:Veranstaltungen für Sankt-Jakobus-Schützenbruderschaft
REFRESH-INTERVAL;VALUE=DURATION:PT1H
X-Robots-Tag:noindex
X-PUBLISHED-TTL:PT1H
BEGIN:VTIMEZONE
TZID:UTC
BEGIN:STANDARD
TZOFFSETFROM:+0000
TZOFFSETTO:+0000
TZNAME:UTC
DTSTART:20250101T000000
END:STANDARD
END:VTIMEZONE
BEGIN:VEVENT
DTSTART;VALUE=DATE:20260725
DTEND;VALUE=DATE:20260726
DTSTAMP:20260424T094108
CREATED:20251208T121805Z
LAST-MODIFIED:20251208T121805Z
UID:7399-1784937600-1785023999@sankt-jakobus-schuetzenbruderschaft-ehringhausen.de
SUMMARY:Patronatsfest
DESCRIPTION:
URL:https://sankt-jakobus-schuetzenbruderschaft-ehringhausen.de/event/patronatsfest-8/
LOCATION:Jakobusplatz
END:VEVENT
BEGIN:VEVENT
DTSTART;VALUE=DATE:20260725
DTEND;VALUE=DATE:20260728
DTSTAMP:20260424T094108
CREATED:20251208T121833Z
LAST-MODIFIED:20251208T121833Z
UID:7402-1784937600-1785196799@sankt-jakobus-schuetzenbruderschaft-ehringhausen.de
SUMMARY:Schützenfest Dedinghausen
DESCRIPTION:
URL:https://sankt-jakobus-schuetzenbruderschaft-ehringhausen.de/event/schuetzenfest-dedinghausen/
END:VEVENT
END:VCALENDAR