BEGIN:VCALENDAR
VERSION:2.0
PRODID:-//Sankt-Jakobus-Schützenbruderschaft - ECPv6.15.20//NONSGML v1.0//EN
CALSCALE:GREGORIAN
METHOD:PUBLISH
X-ORIGINAL-URL:https://sankt-jakobus-schuetzenbruderschaft-ehringhausen.de
X-WR-CALDESC:Veranstaltungen für Sankt-Jakobus-Schützenbruderschaft
REFRESH-INTERVAL;VALUE=DURATION:PT1H
X-Robots-Tag:noindex
X-PUBLISHED-TTL:PT1H
BEGIN:VTIMEZONE
TZID:UTC
BEGIN:STANDARD
TZOFFSETFROM:+0000
TZOFFSETTO:+0000
TZNAME:UTC
DTSTART:20250101T000000
END:STANDARD
END:VTIMEZONE
BEGIN:VEVENT
DTSTART;VALUE=DATE:20260418
DTEND;VALUE=DATE:20260419
DTSTAMP:20260423T104147
CREATED:20251208T120826Z
LAST-MODIFIED:20251208T120826Z
UID:7354-1776470400-1776556799@sankt-jakobus-schuetzenbruderschaft-ehringhausen.de
SUMMARY:Bundesversammlung SSB
DESCRIPTION:
URL:https://sankt-jakobus-schuetzenbruderschaft-ehringhausen.de/event/bundesversammlung-ssb-4/
END:VEVENT
END:VCALENDAR